Workbook

Sheet Podsumowanie
A1: Karta pracy 2027: podsumowanie roku
A2: Wpisuj godziny w arkuszach miesięcy. Ta tabela uzupełnia się sama.
A4: Miesiąc | B4: Wymiar (h) | C4: Przepracowane (h) | D4: Różnica (h) | E4: Urlop (dni) | F4: L4 (dni)
A5: styczeń | B5: ='Styczeń'!F40 | C5: ='Styczeń'!F39 | D5: =C5-B5 | E5: ='Styczeń'!F43 | F5: ='Styczeń'!F44
A6: luty | B6: ='Luty'!F37 | C6: ='Luty'!F36 | D6: =C6-B6 | E6: ='Luty'!F40 | F6: ='Luty'!F41
A7: marzec | B7: ='Marzec'!F40 | C7: ='Marzec'!F39 | D7: =C7-B7 | E7: ='Marzec'!F43 | F7: ='Marzec'!F44
A8: kwiecień | B8: ='Kwiecień'!F39 | C8: ='Kwiecień'!F38 | D8: =C8-B8 | E8: ='Kwiecień'!F42 | F8: ='Kwiecień'!F43
A9: maj | B9: ='Maj'!F40 | C9: ='Maj'!F39 | D9: =C9-B9 | E9: ='Maj'!F43 | F9: ='Maj'!F44
A10: czerwiec | B10: ='Czerwiec'!F39 | C10: ='Czerwiec'!F38 | D10: =C10-B10 | E10: ='Czerwiec'!F42 | F10: ='Czerwiec'!F43
A11: lipiec | B11: ='Lipiec'!F40 | C11: ='Lipiec'!F39 | D11: =C11-B11 | E11: ='Lipiec'!F43 | F11: ='Lipiec'!F44
A12: sierpień | B12: ='Sierpień'!F40 | C12: ='Sierpień'!F39 | D12: =C12-B12 | E12: ='Sierpień'!F43 | F12: ='Sierpień'!F44
A13: wrzesień | B13: ='Wrzesień'!F39 | C13: ='Wrzesień'!F38 | D13: =C13-B13 | E13: ='Wrzesień'!F42 | F13: ='Wrzesień'!F43
A14: październik | B14: ='Październik'!F40 | C14: ='Październik'!F39 | D14: =C14-B14 | E14: ='Październik'!F43 | F14: ='Październik'!F44
A15: listopad | B15: ='Listopad'!F39 | C15: ='Listopad'!F38 | D15: =C15-B15 | E15: ='Listopad'!F42 | F15: ='Listopad'!F43
A16: grudzień | B16: ='Grudzień'!F40 | C16: ='Grudzień'!F39 | D16: =C16-B16 | E16: ='Grudzień'!F43 | F16: ='Grudzień'!F44
A17: Razem | B17: =SUM(B5:B16) | C17: =SUM(C5:C16) | D17: =SUM(D5:D16) | E17: =SUM(E5:E16) | F17: =SUM(F5:F16)

Sheet Styczeń
A1: Karta ewidencji czasu pracy: styczeń 2027
A2: Pracownik:
A3: Stanowisko:
A4: Wymiar czasu pracy (pełny etat): 152 h, 19 dni
A6: Dzień | B6: Dzień tyg. | C6: Rozpoczęcie | D6: Zakończenie | E6: Przerwa (min) | F6: Godziny | G6: Ponad 8 h | H6: Rodzaj | I6: Uwagi
A7: 1 | B7: piątek | F7: =IF(OR(C7="",D7=""),0,ROUND(MOD(D7-C7,1)*24-N(E7)/60,2)) | G7: =MAX(0,F7-8) | H7: Nowy Rok
A8: 2 | B8: sobota | F8: =IF(OR(C8="",D8=""),0,ROUND(MOD(D8-C8,1)*24-N(E8)/60,2)) | G8: =MAX(0,F8-8) | H8: dzień wolny
A9: 3 | B9: niedziela | F9: =IF(OR(C9="",D9=""),0,ROUND(MOD(D9-C9,1)*24-N(E9)/60,2)) | G9: =MAX(0,F9-8) | H9: dzień wolny
A10: 4 | B10: poniedziałek | F10: =IF(OR(C10="",D10=""),0,ROUND(MOD(D10-C10,1)*24-N(E10)/60,2)) | G10: =MAX(0,F10-8)
A11: 5 | B11: wtorek | F11: =IF(OR(C11="",D11=""),0,ROUND(MOD(D11-C11,1)*24-N(E11)/60,2)) | G11: =MAX(0,F11-8)
A12: 6 | B12: środa | F12: =IF(OR(C12="",D12=""),0,ROUND(MOD(D12-C12,1)*24-N(E12)/60,2)) | G12: =MAX(0,F12-8) | H12: Święto Trzech Króli
A13: 7 | B13: czwartek | F13: =IF(OR(C13="",D13=""),0,ROUND(MOD(D13-C13,1)*24-N(E13)/60,2)) | G13: =MAX(0,F13-8)
A14: 8 | B14: piątek | F14: =IF(OR(C14="",D14=""),0,ROUND(MOD(D14-C14,1)*24-N(E14)/60,2)) | G14: =MAX(0,F14-8)
A15: 9 | B15: sobota | F15: =IF(OR(C15="",D15=""),0,ROUND(MOD(D15-C15,1)*24-N(E15)/60,2)) | G15: =MAX(0,F15-8) | H15: dzień wolny
A16: 10 | B16: niedziela | F16: =IF(OR(C16="",D16=""),0,ROUND(MOD(D16-C16,1)*24-N(E16)/60,2)) | G16: =MAX(0,F16-8) | H16: dzień wolny
A17: 11 | B17: poniedziałek | F17: =IF(OR(C17="",D17=""),0,ROUND(MOD(D17-C17,1)*24-N(E17)/60,2)) | G17: =MAX(0,F17-8)
A18: 12 | B18: wtorek | F18: =IF(OR(C18="",D18=""),0,ROUND(MOD(D18-C18,1)*24-N(E18)/60,2)) | G18: =MAX(0,F18-8)
A19: 13 | B19: środa | F19: =IF(OR(C19="",D19=""),0,ROUND(MOD(D19-C19,1)*24-N(E19)/60,2)) | G19: =MAX(0,F19-8)
A20: 14 | B20: czwartek | F20: =IF(OR(C20="",D20=""),0,ROUND(MOD(D20-C20,1)*24-N(E20)/60,2)) | G20: =MAX(0,F20-8)
A21: 15 | B21: piątek | F21: =IF(OR(C21="",D21=""),0,ROUND(MOD(D21-C21,1)*24-N(E21)/60,2)) | G21: =MAX(0,F21-8)
A22: 16 | B22: sobota | F22: =IF(OR(C22="",D22=""),0,ROUND(MOD(D22-C22,1)*24-N(E22)/60,2)) | G22: =MAX(0,F22-8) | H22: dzień wolny
A23: 17 | B23: niedziela | F23: =IF(OR(C23="",D23=""),0,ROUND(MOD(D23-C23,1)*24-N(E23)/60,2)) | G23: =MAX(0,F23-8) | H23: dzień wolny
A24: 18 | B24: poniedziałek | F24: =IF(OR(C24="",D24=""),0,ROUND(MOD(D24-C24,1)*24-N(E24)/60,2)) | G24: =MAX(0,F24-8)
A25: 19 | B25: wtorek | F25: =IF(OR(C25="",D25=""),0,ROUND(MOD(D25-C25,1)*24-N(E25)/60,2)) | G25: =MAX(0,F25-8)
A26: 20 | B26: środa | F26: =IF(OR(C26="",D26=""),0,ROUND(MOD(D26-C26,1)*24-N(E26)/60,2)) | G26: =MAX(0,F26-8)
A27: 21 | B27: czwartek | F27: =IF(OR(C27="",D27=""),0,ROUND(MOD(D27-C27,1)*24-N(E27)/60,2)) | G27: =MAX(0,F27-8)
A28: 22 | B28: piątek | F28: =IF(OR(C28="",D28=""),0,ROUND(MOD(D28-C28,1)*24-N(E28)/60,2)) | G28: =MAX(0,F28-8)
A29: 23 | B29: sobota | F29: =IF(OR(C29="",D29=""),0,ROUND(MOD(D29-C29,1)*24-N(E29)/60,2)) | G29: =MAX(0,F29-8) | H29: dzień wolny
A30: 24 | B30: niedziela | F30: =IF(OR(C30="",D30=""),0,ROUND(MOD(D30-C30,1)*24-N(E30)/60,2)) | G30: =MAX(0,F30-8) | H30: dzień wolny
A31: 25 | B31: poniedziałek | F31: =IF(OR(C31="",D31=""),0,ROUND(MOD(D31-C31,1)*24-N(E31)/60,2)) | G31: =MAX(0,F31-8)
A32: 26 | B32: wtorek | F32: =IF(OR(C32="",D32=""),0,ROUND(MOD(D32-C32,1)*24-N(E32)/60,2)) | G32: =MAX(0,F32-8)
A33: 27 | B33: środa | F33: =IF(OR(C33="",D33=""),0,ROUND(MOD(D33-C33,1)*24-N(E33)/60,2)) | G33: =MAX(0,F33-8)
A34: 28 | B34: czwartek | F34: =IF(OR(C34="",D34=""),0,ROUND(MOD(D34-C34,1)*24-N(E34)/60,2)) | G34: =MAX(0,F34-8)
A35: 29 | B35: piątek | F35: =IF(OR(C35="",D35=""),0,ROUND(MOD(D35-C35,1)*24-N(E35)/60,2)) | G35: =MAX(0,F35-8)
A36: 30 | B36: sobota | F36: =IF(OR(C36="",D36=""),0,ROUND(MOD(D36-C36,1)*24-N(E36)/60,2)) | G36: =MAX(0,F36-8) | H36: dzień wolny
A37: 31 | B37: niedziela | F37: =IF(OR(C37="",D37=""),0,ROUND(MOD(D37-C37,1)*24-N(E37)/60,2)) | G37: =MAX(0,F37-8) | H37: dzień wolny
A39: Przepracowane godziny | F39: =SUM(F7:F37)
A40: Wymiar czasu pracy (pełny etat) | F40: 152
A41: Godziny ponad wymiar | F41: =MAX(0,F39-F40)
A42: Godziny ponad 8 h na dobę | F42: =SUM(G7:G37)
...

Sheet Luty
A1: Karta ewidencji czasu pracy: luty 2027
A2: Pracownik:
A3: Stanowisko:
A4: Wymiar czasu pracy (pełny etat): 160 h, 20 dni
A6: Dzień | B6: Dzień tyg. | C6: Rozpoczęcie | D6: Zakończenie | E6: Przerwa (min) | F6: Godziny | G6: Ponad 8 h | H6: Rodzaj | I6: Uwagi
A7: 1 | B7: poniedziałek | F7: =IF(OR(C7="",D7=""),0,ROUND(MOD(D7-C7,1)*24-N(E7)/60,2)) | G7: =MAX(0,F7-8)
A8: 2 | B8: wtorek | F8: =IF(OR(C8="",D8=""),0,ROUND(MOD(D8-C8,1)*24-N(E8)/60,2)) | G8: =MAX(0,F8-8)
A9: 3 | B9: środa | F9: =IF(OR(C9="",D9=""),0,ROUND(MOD(D9-C9,1)*24-N(E9)/60,2)) | G9: =MAX(0,F9-8)
A10: 4 | B10: czwartek | F10: =IF(OR(C10="",D10=""),0,ROUND(MOD(D10-C10,1)*24-N(E10)/60,2)) | G10: =MAX(0,F10-8)
A11: 5 | B11: piątek | F11: =IF(OR(C11="",D11=""),0,ROUND(MOD(D11-C11,1)*24-N(E11)/60,2)) | G11: =MAX(0,F11-8)
A12: 6 | B12: sobota | F12: =IF(OR(C12="",D12=""),0,ROUND(MOD(D12-C12,1)*24-N(E12)/60,2)) | G12: =MAX(0,F12-8) | H12: dzień wolny
A13: 7 | B13: niedziela | F13: =IF(OR(C13="",D13=""),0,ROUND(MOD(D13-C13,1)*24-N(E13)/60,2)) | G13: =MAX(0,F13-8) | H13: dzień wolny
A14: 8 | B14: poniedziałek | F14: =IF(OR(C14="",D14=""),0,ROUND(MOD(D14-C14,1)*24-N(E14)/60,2)) | G14: =MAX(0,F14-8)
A15: 9 | B15: wtorek | F15: =IF(OR(C15="",D15=""),0,ROUND(MOD(D15-C15,1)*24-N(E15)/60,2)) | G15: =MAX(0,F15-8)
A16: 10 | B16: środa | F16: =IF(OR(C16="",D16=""),0,ROUND(MOD(D16-C16,1)*24-N(E16)/60,2)) | G16: =MAX(0,F16-8)
A17: 11 | B17: czwartek | F17: =IF(OR(C17="",D17=""),0,ROUND(MOD(D17-C17,1)*24-N(E17)/60,2)) | G17: =MAX(0,F17-8)
A18: 12 | B18: piątek | F18: =IF(OR(C18="",D18=""),0,ROUND(MOD(D18-C18,1)*24-N(E18)/60,2)) | G18: =MAX(0,F18-8)
A19: 13 | B19: sobota | F19: =IF(OR(C19="",D19=""),0,ROUND(MOD(D19-C19,1)*24-N(E19)/60,2)) | G19: =MAX(0,F19-8) | H19: dzień wolny
A20: 14 | B20: niedziela | F20: =IF(OR(C20="",D20=""),0,ROUND(MOD(D20-C20,1)*24-N(E20)/60,2)) | G20: =MAX(0,F20-8) | H20: dzień wolny
A21: 15 | B21: poniedziałek | F21: =IF(OR(C21="",D21=""),0,ROUND(MOD(D21-C21,1)*24-N(E21)/60,2)) | G21: =MAX(0,F21-8)
A22: 16 | B22: wtorek | F22: =IF(OR(C22="",D22=""),0,ROUND(MOD(D22-C22,1)*24-N(E22)/60,2)) | G22: =MAX(0,F22-8)
A23: 17 | B23: środa | F23: =IF(OR(C23="",D23=""),0,ROUND(MOD(D23-C23,1)*24-N(E23)/60,2)) | G23: =MAX(0,F23-8)
A24: 18 | B24: czwartek | F24: =IF(OR(C24="",D24=""),0,ROUND(MOD(D24-C24,1)*24-N(E24)/60,2)) | G24: =MAX(0,F24-8)
A25: 19 | B25: piątek | F25: =IF(OR(C25="",D25=""),0,ROUND(MOD(D25-C25,1)*24-N(E25)/60,2)) | G25: =MAX(0,F25-8)
A26: 20 | B26: sobota | F26: =IF(OR(C26="",D26=""),0,ROUND(MOD(D26-C26,1)*24-N(E26)/60,2)) | G26: =MAX(0,F26-8) | H26: dzień wolny
A27: 21 | B27: niedziela | F27: =IF(OR(C27="",D27=""),0,ROUND(MOD(D27-C27,1)*24-N(E27)/60,2)) | G27: =MAX(0,F27-8) | H27: dzień wolny
A28: 22 | B28: poniedziałek | F28: =IF(OR(C28="",D28=""),0,ROUND(MOD(D28-C28,1)*24-N(E28)/60,2)) | G28: =MAX(0,F28-8)
A29: 23 | B29: wtorek | F29: =IF(OR(C29="",D29=""),0,ROUND(MOD(D29-C29,1)*24-N(E29)/60,2)) | G29: =MAX(0,F29-8)
A30: 24 | B30: środa | F30: =IF(OR(C30="",D30=""),0,ROUND(MOD(D30-C30,1)*24-N(E30)/60,2)) | G30: =MAX(0,F30-8)
A31: 25 | B31: czwartek | F31: =IF(OR(C31="",D31=""),0,ROUND(MOD(D31-C31,1)*24-N(E31)/60,2)) | G31: =MAX(0,F31-8)
A32: 26 | B32: piątek | F32: =IF(OR(C32="",D32=""),0,ROUND(MOD(D32-C32,1)*24-N(E32)/60,2)) | G32: =MAX(0,F32-8)
A33: 27 | B33: sobota | F33: =IF(OR(C33="",D33=""),0,ROUND(MOD(D33-C33,1)*24-N(E33)/60,2)) | G33: =MAX(0,F33-8) | H33: dzień wolny
A34: 28 | B34: niedziela | F34: =IF(OR(C34="",D34=""),0,ROUND(MOD(D34-C34,1)*24-N(E34)/60,2)) | G34: =MAX(0,F34-8) | H34: dzień wolny
A36: Przepracowane godziny | F36: =SUM(F7:F34)
A37: Wymiar czasu pracy (pełny etat) | F37: 160
A38: Godziny ponad wymiar | F38: =MAX(0,F36-F37)
A39: Godziny ponad 8 h na dobę | F39: =SUM(G7:G34)
A40: Dni urlopu | F40: =COUNTIF(H7:H34,"urlop")
A41: Dni L4 | F41: =COUNTIF(H7:H34,"L4")
A44: ................................. | G44: .................................
...

Sheet Marzec
A1: Karta ewidencji czasu pracy: marzec 2027
A2: Pracownik:
A3: Stanowisko:
A4: Wymiar czasu pracy (pełny etat): 176 h, 22 dni
A6: Dzień | B6: Dzień tyg. | C6: Rozpoczęcie | D6: Zakończenie | E6: Przerwa (min) | F6: Godziny | G6: Ponad 8 h | H6: Rodzaj | I6: Uwagi
A7: 1 | B7: poniedziałek | F7: =IF(OR(C7="",D7=""),0,ROUND(MOD(D7-C7,1)*24-N(E7)/60,2)) | G7: =MAX(0,F7-8)
A8: 2 | B8: wtorek | F8: =IF(OR(C8="",D8=""),0,ROUND(MOD(D8-C8,1)*24-N(E8)/60,2)) | G8: =MAX(0,F8-8)
A9: 3 | B9: środa | F9: =IF(OR(C9="",D9=""),0,ROUND(MOD(D9-C9,1)*24-N(E9)/60,2)) | G9: =MAX(0,F9-8)
A10: 4 | B10: czwartek | F10: =IF(OR(C10="",D10=""),0,ROUND(MOD(D10-C10,1)*24-N(E10)/60,2)) | G10: =MAX(0,F10-8)
A11: 5 | B11: piątek | F11: =IF(OR(C11="",D11=""),0,ROUND(MOD(D11-C11,1)*24-N(E11)/60,2)) | G11: =MAX(0,F11-8)
A12: 6 | B12: sobota | F12: =IF(OR(C12="",D12=""),0,ROUND(MOD(D12-C12,1)*24-N(E12)/60,2)) | G12: =MAX(0,F12-8) | H12: dzień wolny
A13: 7 | B13: niedziela | F13: =IF(OR(C13="",D13=""),0,ROUND(MOD(D13-C13,1)*24-N(E13)/60,2)) | G13: =MAX(0,F13-8) | H13: dzień wolny
A14: 8 | B14: poniedziałek | F14: =IF(OR(C14="",D14=""),0,ROUND(MOD(D14-C14,1)*24-N(E14)/60,2)) | G14: =MAX(0,F14-8)
A15: 9 | B15: wtorek | F15: =IF(OR(C15="",D15=""),0,ROUND(MOD(D15-C15,1)*24-N(E15)/60,2)) | G15: =MAX(0,F15-8)
A16: 10 | B16: środa | F16: =IF(OR(C16="",D16=""),0,ROUND(MOD(D16-C16,1)*24-N(E16)/60,2)) | G16: =MAX(0,F16-8)
A17: 11 | B17: czwartek | F17: =IF(OR(C17="",D17=""),0,ROUND(MOD(D17-C17,1)*24-N(E17)/60,2)) | G17: =MAX(0,F17-8)
A18: 12 | B18: piątek | F18: =IF(OR(C18="",D18=""),0,ROUND(MOD(D18-C18,1)*24-N(E18)/60,2)) | G18: =MAX(0,F18-8)
A19: 13 | B19: sobota | F19: =IF(OR(C19="",D19=""),0,ROUND(MOD(D19-C19,1)*24-N(E19)/60,2)) | G19: =MAX(0,F19-8) | H19: dzień wolny
A20: 14 | B20: niedziela | F20: =IF(OR(C20="",D20=""),0,ROUND(MOD(D20-C20,1)*24-N(E20)/60,2)) | G20: =MAX(0,F20-8) | H20: dzień wolny
A21: 15 | B21: poniedziałek | F21: =IF(OR(C21="",D21=""),0,ROUND(MOD(D21-C21,1)*24-N(E21)/60,2)) | G21: =MAX(0,F21-8)
A22: 16 | B22: wtorek | F22: =IF(OR(C22="",D22=""),0,ROUND(MOD(D22-C22,1)*24-N(E22)/60,2)) | G22: =MAX(0,F22-8)
A23: 17 | B23: środa | F23: =IF(OR(C23="",D23=""),0,ROUND(MOD(D23-C23,1)*24-N(E23)/60,2)) | G23: =MAX(0,F23-8)
A24: 18 | B24: czwartek | F24: =IF(OR(C24="",D24=""),0,ROUND(MOD(D24-C24,1)*24-N(E24)/60,2)) | G24: =MAX(0,F24-8)
A25: 19 | B25: piątek | F25: =IF(OR(C25="",D25=""),0,ROUND(MOD(D25-C25,1)*24-N(E25)/60,2)) | G25: =MAX(0,F25-8)
A26: 20 | B26: sobota | F26: =IF(OR(C26="",D26=""),0,ROUND(MOD(D26-C26,1)*24-N(E26)/60,2)) | G26: =MAX(0,F26-8) | H26: dzień wolny
A27: 21 | B27: niedziela | F27: =IF(OR(C27="",D27=""),0,ROUND(MOD(D27-C27,1)*24-N(E27)/60,2)) | G27: =MAX(0,F27-8) | H27: dzień wolny
A28: 22 | B28: poniedziałek | F28: =IF(OR(C28="",D28=""),0,ROUND(MOD(D28-C28,1)*24-N(E28)/60,2)) | G28: =MAX(0,F28-8)
A29: 23 | B29: wtorek | F29: =IF(OR(C29="",D29=""),0,ROUND(MOD(D29-C29,1)*24-N(E29)/60,2)) | G29: =MAX(0,F29-8)
A30: 24 | B30: środa | F30: =IF(OR(C30="",D30=""),0,ROUND(MOD(D30-C30,1)*24-N(E30)/60,2)) | G30: =MAX(0,F30-8)
A31: 25 | B31: czwartek | F31: =IF(OR(C31="",D31=""),0,ROUND(MOD(D31-C31,1)*24-N(E31)/60,2)) | G31: =MAX(0,F31-8)
A32: 26 | B32: piątek | F32: =IF(OR(C32="",D32=""),0,ROUND(MOD(D32-C32,1)*24-N(E32)/60,2)) | G32: =MAX(0,F32-8)
A33: 27 | B33: sobota | F33: =IF(OR(C33="",D33=""),0,ROUND(MOD(D33-C33,1)*24-N(E33)/60,2)) | G33: =MAX(0,F33-8) | H33: dzień wolny
A34: 28 | B34: niedziela | F34: =IF(OR(C34="",D34=""),0,ROUND(MOD(D34-C34,1)*24-N(E34)/60,2)) | G34: =MAX(0,F34-8) | H34: Wielkanoc
A35: 29 | B35: poniedziałek | F35: =IF(OR(C35="",D35=""),0,ROUND(MOD(D35-C35,1)*24-N(E35)/60,2)) | G35: =MAX(0,F35-8) | H35: Poniedziałek Wielkanocny
A36: 30 | B36: wtorek | F36: =IF(OR(C36="",D36=""),0,ROUND(MOD(D36-C36,1)*24-N(E36)/60,2)) | G36: =MAX(0,F36-8)
A37: 31 | B37: środa | F37: =IF(OR(C37="",D37=""),0,ROUND(MOD(D37-C37,1)*24-N(E37)/60,2)) | G37: =MAX(0,F37-8)
A39: Przepracowane godziny | F39: =SUM(F7:F37)
A40: Wymiar czasu pracy (pełny etat) | F40: 176
A41: Godziny ponad wymiar | F41: =MAX(0,F39-F40)
A42: Godziny ponad 8 h na dobę | F42: =SUM(G7:G37)
...

Sheet Kwiecień
A1: Karta ewidencji czasu pracy: kwiecień 2027
A2: Pracownik:
A3: Stanowisko:
A4: Wymiar czasu pracy (pełny etat): 176 h, 22 dni
A6: Dzień | B6: Dzień tyg. | C6: Rozpoczęcie | D6: Zakończenie | E6: Przerwa (min) | F6: Godziny | G6: Ponad 8 h | H6: Rodzaj | I6: Uwagi
A7: 1 | B7: czwartek | F7: =IF(OR(C7="",D7=""),0,ROUND(MOD(D7-C7,1)*24-N(E7)/60,2)) | G7: =MAX(0,F7-8)
A8: 2 | B8: piątek | F8: =IF(OR(C8="",D8=""),0,ROUND(MOD(D8-C8,1)*24-N(E8)/60,2)) | G8: =MAX(0,F8-8)
A9: 3 | B9: sobota | F9: =IF(OR(C9="",D9=""),0,ROUND(MOD(D9-C9,1)*24-N(E9)/60,2)) | G9: =MAX(0,F9-8) | H9: dzień wolny
A10: 4 | B10: niedziela | F10: =IF(OR(C10="",D10=""),0,ROUND(MOD(D10-C10,1)*24-N(E10)/60,2)) | G10: =MAX(0,F10-8) | H10: dzień wolny
A11: 5 | B11: poniedziałek | F11: =IF(OR(C11="",D11=""),0,ROUND(MOD(D11-C11,1)*24-N(E11)/60,2)) | G11: =MAX(0,F11-8)
A12: 6 | B12: wtorek | F12: =IF(OR(C12="",D12=""),0,ROUND(MOD(D12-C12,1)*24-N(E12)/60,2)) | G12: =MAX(0,F12-8)
A13: 7 | B13: środa | F13: =IF(OR(C13="",D13=""),0,ROUND(MOD(D13-C13,1)*24-N(E13)/60,2)) | G13: =MAX(0,F13-8)
A14: 8 | B14: czwartek | F14: =IF(OR(C14="",D14=""),0,ROUND(MOD(D14-C14,1)*24-N(E14)/60,2)) | G14: =MAX(0,F14-8)
A15: 9 | B15: piątek | F15: =IF(OR(C15="",D15=""),0,ROUND(MOD(D15-C15,1)*24-N(E15)/60,2)) | G15: =MAX(0,F15-8)
A16: 10 | B16: sobota | F16: =IF(OR(C16="",D16=""),0,ROUND(MOD(D16-C16,1)*24-N(E16)/60,2)) | G16: =MAX(0,F16-8) | H16: dzień wolny
A17: 11 | B17: niedziela | F17: =IF(OR(C17="",D17=""),0,ROUND(MOD(D17-C17,1)*24-N(E17)/60,2)) | G17: =MAX(0,F17-8) | H17: dzień wolny
A18: 12 | B18: poniedziałek | F18: =IF(OR(C18="",D18=""),0,ROUND(MOD(D18-C18,1)*24-N(E18)/60,2)) | G18: =MAX(0,F18-8)
A19: 13 | B19: wtorek | F19: =IF(OR(C19="",D19=""),0,ROUND(MOD(D19-C19,1)*24-N(E19)/60,2)) | G19: =MAX(0,F19-8)
A20: 14 | B20: środa | F20: =IF(OR(C20="",D20=""),0,ROUND(MOD(D20-C20,1)*24-N(E20)/60,2)) | G20: =MAX(0,F20-8)
A21: 15 | B21: czwartek | F21: =IF(OR(C21="",D21=""),0,ROUND(MOD(D21-C21,1)*24-N(E21)/60,2)) | G21: =MAX(0,F21-8)
A22: 16 | B22: piątek | F22: =IF(OR(C22="",D22=""),0,ROUND(MOD(D22-C22,1)*24-N(E22)/60,2)) | G22: =MAX(0,F22-8)
A23: 17 | B23: sobota | F23: =IF(OR(C23="",D23=""),0,ROUND(MOD(D23-C23,1)*24-N(E23)/60,2)) | G23: =MAX(0,F23-8) | H23: dzień wolny
A24: 18 | B24: niedziela | F24: =IF(OR(C24="",D24=""),0,ROUND(MOD(D24-C24,1)*24-N(E24)/60,2)) | G24: =MAX(0,F24-8) | H24: dzień wolny
A25: 19 | B25: poniedziałek | F25: =IF(OR(C25="",D25=""),0,ROUND(MOD(D25-C25,1)*24-N(E25)/60,2)) | G25: =MAX(0,F25-8)
A26: 20 | B26: wtorek | F26: =IF(OR(C26="",D26=""),0,ROUND(MOD(D26-C26,1)*24-N(E26)/60,2)) | G26: =MAX(0,F26-8)
A27: 21 | B27: środa | F27: =IF(OR(C27="",D27=""),0,ROUND(MOD(D27-C27,1)*24-N(E27)/60,2)) | G27: =MAX(0,F27-8)
A28: 22 | B28: czwartek | F28: =IF(OR(C28="",D28=""),0,ROUND(MOD(D28-C28,1)*24-N(E28)/60,2)) | G28: =MAX(0,F28-8)
A29: 23 | B29: piątek | F29: =IF(OR(C29="",D29=""),0,ROUND(MOD(D29-C29,1)*24-N(E29)/60,2)) | G29: =MAX(0,F29-8)
A30: 24 | B30: sobota | F30: =IF(OR(C30="",D30=""),0,ROUND(MOD(D30-C30,1)*24-N(E30)/60,2)) | G30: =MAX(0,F30-8) | H30: dzień wolny
A31: 25 | B31: niedziela | F31: =IF(OR(C31="",D31=""),0,ROUND(MOD(D31-C31,1)*24-N(E31)/60,2)) | G31: =MAX(0,F31-8) | H31: dzień wolny
A32: 26 | B32: poniedziałek | F32: =IF(OR(C32="",D32=""),0,ROUND(MOD(D32-C32,1)*24-N(E32)/60,2)) | G32: =MAX(0,F32-8)
A33: 27 | B33: wtorek | F33: =IF(OR(C33="",D33=""),0,ROUND(MOD(D33-C33,1)*24-N(E33)/60,2)) | G33: =MAX(0,F33-8)
A34: 28 | B34: środa | F34: =IF(OR(C34="",D34=""),0,ROUND(MOD(D34-C34,1)*24-N(E34)/60,2)) | G34: =MAX(0,F34-8)
A35: 29 | B35: czwartek | F35: =IF(OR(C35="",D35=""),0,ROUND(MOD(D35-C35,1)*24-N(E35)/60,2)) | G35: =MAX(0,F35-8)
A36: 30 | B36: piątek | F36: =IF(OR(C36="",D36=""),0,ROUND(MOD(D36-C36,1)*24-N(E36)/60,2)) | G36: =MAX(0,F36-8)
A38: Przepracowane godziny | F38: =SUM(F7:F36)
A39: Wymiar czasu pracy (pełny etat) | F39: 176
A40: Godziny ponad wymiar | F40: =MAX(0,F38-F39)
A41: Godziny ponad 8 h na dobę | F41: =SUM(G7:G36)
A42: Dni urlopu | F42: =COUNTIF(H7:H36,"urlop")
...

Sheet Maj
A1: Karta ewidencji czasu pracy: maj 2027
A2: Pracownik:
A3: Stanowisko:
A4: Wymiar czasu pracy (pełny etat): 144 h, 18 dni
A6: Dzień | B6: Dzień tyg. | C6: Rozpoczęcie | D6: Zakończenie | E6: Przerwa (min) | F6: Godziny | G6: Ponad 8 h | H6: Rodzaj | I6: Uwagi
A7: 1 | B7: sobota | F7: =IF(OR(C7="",D7=""),0,ROUND(MOD(D7-C7,1)*24-N(E7)/60,2)) | G7: =MAX(0,F7-8) | H7: Święto Pracy
A8: 2 | B8: niedziela | F8: =IF(OR(C8="",D8=""),0,ROUND(MOD(D8-C8,1)*24-N(E8)/60,2)) | G8: =MAX(0,F8-8) | H8: dzień wolny
A9: 3 | B9: poniedziałek | F9: =IF(OR(C9="",D9=""),0,ROUND(MOD(D9-C9,1)*24-N(E9)/60,2)) | G9: =MAX(0,F9-8) | H9: Święto Konstytucji 3 Maja
A10: 4 | B10: wtorek | F10: =IF(OR(C10="",D10=""),0,ROUND(MOD(D10-C10,1)*24-N(E10)/60,2)) | G10: =MAX(0,F10-8)
A11: 5 | B11: środa | F11: =IF(OR(C11="",D11=""),0,ROUND(MOD(D11-C11,1)*24-N(E11)/60,2)) | G11: =MAX(0,F11-8)
A12: 6 | B12: czwartek | F12: =IF(OR(C12="",D12=""),0,ROUND(MOD(D12-C12,1)*24-N(E12)/60,2)) | G12: =MAX(0,F12-8)
A13: 7 | B13: piątek | F13: =IF(OR(C13="",D13=""),0,ROUND(MOD(D13-C13,1)*24-N(E13)/60,2)) | G13: =MAX(0,F13-8)
A14: 8 | B14: sobota | F14: =IF(OR(C14="",D14=""),0,ROUND(MOD(D14-C14,1)*24-N(E14)/60,2)) | G14: =MAX(0,F14-8) | H14: dzień wolny
A15: 9 | B15: niedziela | F15: =IF(OR(C15="",D15=""),0,ROUND(MOD(D15-C15,1)*24-N(E15)/60,2)) | G15: =MAX(0,F15-8) | H15: dzień wolny
A16: 10 | B16: poniedziałek | F16: =IF(OR(C16="",D16=""),0,ROUND(MOD(D16-C16,1)*24-N(E16)/60,2)) | G16: =MAX(0,F16-8)
A17: 11 | B17: wtorek | F17: =IF(OR(C17="",D17=""),0,ROUND(MOD(D17-C17,1)*24-N(E17)/60,2)) | G17: =MAX(0,F17-8)
A18: 12 | B18: środa | F18: =IF(OR(C18="",D18=""),0,ROUND(MOD(D18-C18,1)*24-N(E18)/60,2)) | G18: =MAX(0,F18-8)
A19: 13 | B19: czwartek | F19: =IF(OR(C19="",D19=""),0,ROUND(MOD(D19-C19,1)*24-N(E19)/60,2)) | G19: =MAX(0,F19-8)
A20: 14 | B20: piątek | F20: =IF(OR(C20="",D20=""),0,ROUND(MOD(D20-C20,1)*24-N(E20)/60,2)) | G20: =MAX(0,F20-8)
A21: 15 | B21: sobota | F21: =IF(OR(C21="",D21=""),0,ROUND(MOD(D21-C21,1)*24-N(E21)/60,2)) | G21: =MAX(0,F21-8) | H21: dzień wolny
A22: 16 | B22: niedziela | F22: =IF(OR(C22="",D22=""),0,ROUND(MOD(D22-C22,1)*24-N(E22)/60,2)) | G22: =MAX(0,F22-8) | H22: Zielone Świątki
A23: 17 | B23: poniedziałek | F23: =IF(OR(C23="",D23=""),0,ROUND(MOD(D23-C23,1)*24-N(E23)/60,2)) | G23: =MAX(0,F23-8)
A24: 18 | B24: wtorek | F24: =IF(OR(C24="",D24=""),0,ROUND(MOD(D24-C24,1)*24-N(E24)/60,2)) | G24: =MAX(0,F24-8)
A25: 19 | B25: środa | F25: =IF(OR(C25="",D25=""),0,ROUND(MOD(D25-C25,1)*24-N(E25)/60,2)) | G25: =MAX(0,F25-8)
A26: 20 | B26: czwartek | F26: =IF(OR(C26="",D26=""),0,ROUND(MOD(D26-C26,1)*24-N(E26)/60,2)) | G26: =MAX(0,F26-8)
A27: 21 | B27: piątek | F27: =IF(OR(C27="",D27=""),0,ROUND(MOD(D27-C27,1)*24-N(E27)/60,2)) | G27: =MAX(0,F27-8)
A28: 22 | B28: sobota | F28: =IF(OR(C28="",D28=""),0,ROUND(MOD(D28-C28,1)*24-N(E28)/60,2)) | G28: =MAX(0,F28-8) | H28: dzień wolny
A29: 23 | B29: niedziela | F29: =IF(OR(C29="",D29=""),0,ROUND(MOD(D29-C29,1)*24-N(E29)/60,2)) | G29: =MAX(0,F29-8) | H29: dzień wolny
A30: 24 | B30: poniedziałek | F30: =IF(OR(C30="",D30=""),0,ROUND(MOD(D30-C30,1)*24-N(E30)/60,2)) | G30: =MAX(0,F30-8)
A31: 25 | B31: wtorek | F31: =IF(OR(C31="",D31=""),0,ROUND(MOD(D31-C31,1)*24-N(E31)/60,2)) | G31: =MAX(0,F31-8)
A32: 26 | B32: środa | F32: =IF(OR(C32="",D32=""),0,ROUND(MOD(D32-C32,1)*24-N(E32)/60,2)) | G32: =MAX(0,F32-8)
A33: 27 | B33: czwartek | F33: =IF(OR(C33="",D33=""),0,ROUND(MOD(D33-C33,1)*24-N(E33)/60,2)) | G33: =MAX(0,F33-8) | H33: Boże Ciało
A34: 28 | B34: piątek | F34: =IF(OR(C34="",D34=""),0,ROUND(MOD(D34-C34,1)*24-N(E34)/60,2)) | G34: =MAX(0,F34-8)
A35: 29 | B35: sobota | F35: =IF(OR(C35="",D35=""),0,ROUND(MOD(D35-C35,1)*24-N(E35)/60,2)) | G35: =MAX(0,F35-8) | H35: dzień wolny
A36: 30 | B36: niedziela | F36: =IF(OR(C36="",D36=""),0,ROUND(MOD(D36-C36,1)*24-N(E36)/60,2)) | G36: =MAX(0,F36-8) | H36: dzień wolny
A37: 31 | B37: poniedziałek | F37: =IF(OR(C37="",D37=""),0,ROUND(MOD(D37-C37,1)*24-N(E37)/60,2)) | G37: =MAX(0,F37-8)
A39: Przepracowane godziny | F39: =SUM(F7:F37)
A40: Wymiar czasu pracy (pełny etat) | F40: 144
A41: Godziny ponad wymiar | F41: =MAX(0,F39-F40)
A42: Godziny ponad 8 h na dobę | F42: =SUM(G7:G37)
...

Sheet Czerwiec
A1: Karta ewidencji czasu pracy: czerwiec 2027
A2: Pracownik:
A3: Stanowisko:
A4: Wymiar czasu pracy (pełny etat): 176 h, 22 dni
A6: Dzień | B6: Dzień tyg. | C6: Rozpoczęcie | D6: Zakończenie | E6: Przerwa (min) | F6: Godziny | G6: Ponad 8 h | H6: Rodzaj | I6: Uwagi
A7: 1 | B7: wtorek | F7: =IF(OR(C7="",D7=""),0,ROUND(MOD(D7-C7,1)*24-N(E7)/60,2)) | G7: =MAX(0,F7-8)
A8: 2 | B8: środa | F8: =IF(OR(C8="",D8=""),0,ROUND(MOD(D8-C8,1)*24-N(E8)/60,2)) | G8: =MAX(0,F8-8)
A9: 3 | B9: czwartek | F9: =IF(OR(C9="",D9=""),0,ROUND(MOD(D9-C9,1)*24-N(E9)/60,2)) | G9: =MAX(0,F9-8)
A10: 4 | B10: piątek | F10: =IF(OR(C10="",D10=""),0,ROUND(MOD(D10-C10,1)*24-N(E10)/60,2)) | G10: =MAX(0,F10-8)
A11: 5 | B11: sobota | F11: =IF(OR(C11="",D11=""),0,ROUND(MOD(D11-C11,1)*24-N(E11)/60,2)) | G11: =MAX(0,F11-8) | H11: dzień wolny
A12: 6 | B12: niedziela | F12: =IF(OR(C12="",D12=""),0,ROUND(MOD(D12-C12,1)*24-N(E12)/60,2)) | G12: =MAX(0,F12-8) | H12: dzień wolny
A13: 7 | B13: poniedziałek | F13: =IF(OR(C13="",D13=""),0,ROUND(MOD(D13-C13,1)*24-N(E13)/60,2)) | G13: =MAX(0,F13-8)
A14: 8 | B14: wtorek | F14: =IF(OR(C14="",D14=""),0,ROUND(MOD(D14-C14,1)*24-N(E14)/60,2)) | G14: =MAX(0,F14-8)
A15: 9 | B15: środa | F15: =IF(OR(C15="",D15=""),0,ROUND(MOD(D15-C15,1)*24-N(E15)/60,2)) | G15: =MAX(0,F15-8)
A16: 10 | B16: czwartek | F16: =IF(OR(C16="",D16=""),0,ROUND(MOD(D16-C16,1)*24-N(E16)/60,2)) | G16: =MAX(0,F16-8)
A17: 11 | B17: piątek | F17: =IF(OR(C17="",D17=""),0,ROUND(MOD(D17-C17,1)*24-N(E17)/60,2)) | G17: =MAX(0,F17-8)
A18: 12 | B18: sobota | F18: =IF(OR(C18="",D18=""),0,ROUND(MOD(D18-C18,1)*24-N(E18)/60,2)) | G18: =MAX(0,F18-8) | H18: dzień wolny
A19: 13 | B19: niedziela | F19: =IF(OR(C19="",D19=""),0,ROUND(MOD(D19-C19,1)*24-N(E19)/60,2)) | G19: =MAX(0,F19-8) | H19: dzień wolny
A20: 14 | B20: poniedziałek | F20: =IF(OR(C20="",D20=""),0,ROUND(MOD(D20-C20,1)*24-N(E20)/60,2)) | G20: =MAX(0,F20-8)
A21: 15 | B21: wtorek | F21: =IF(OR(C21="",D21=""),0,ROUND(MOD(D21-C21,1)*24-N(E21)/60,2)) | G21: =MAX(0,F21-8)
A22: 16 | B22: środa | F22: =IF(OR(C22="",D22=""),0,ROUND(MOD(D22-C22,1)*24-N(E22)/60,2)) | G22: =MAX(0,F22-8)
A23: 17 | B23: czwartek | F23: =IF(OR(C23="",D23=""),0,ROUND(MOD(D23-C23,1)*24-N(E23)/60,2)) | G23: =MAX(0,F23-8)
A24: 18 | B24: piątek | F24: =IF(OR(C24="",D24=""),0,ROUND(MOD(D24-C24,1)*24-N(E24)/60,2)) | G24: =MAX(0,F24-8)
A25: 19 | B25: sobota | F25: =IF(OR(C25="",D25=""),0,ROUND(MOD(D25-C25,1)*24-N(E25)/60,2)) | G25: =MAX(0,F25-8) | H25: dzień wolny
A26: 20 | B26: niedziela | F26: =IF(OR(C26="",D26=""),0,ROUND(MOD(D26-C26,1)*24-N(E26)/60,2)) | G26: =MAX(0,F26-8) | H26: dzień wolny
A27: 21 | B27: poniedziałek | F27: =IF(OR(C27="",D27=""),0,ROUND(MOD(D27-C27,1)*24-N(E27)/60,2)) | G27: =MAX(0,F27-8)
A28: 22 | B28: wtorek | F28: =IF(OR(C28="",D28=""),0,ROUND(MOD(D28-C28,1)*24-N(E28)/60,2)) | G28: =MAX(0,F28-8)
A29: 23 | B29: środa | F29: =IF(OR(C29="",D29=""),0,ROUND(MOD(D29-C29,1)*24-N(E29)/60,2)) | G29: =MAX(0,F29-8)
A30: 24 | B30: czwartek | F30: =IF(OR(C30="",D30=""),0,ROUND(MOD(D30-C30,1)*24-N(E30)/60,2)) | G30: =MAX(0,F30-8)
A31: 25 | B31: piątek | F31: =IF(OR(C31="",D31=""),0,ROUND(MOD(D31-C31,1)*24-N(E31)/60,2)) | G31: =MAX(0,F31-8)
A32: 26 | B32: sobota | F32: =IF(OR(C32="",D32=""),0,ROUND(MOD(D32-C32,1)*24-N(E32)/60,2)) | G32: =MAX(0,F32-8) | H32: dzień wolny
A33: 27 | B33: niedziela | F33: =IF(OR(C33="",D33=""),0,ROUND(MOD(D33-C33,1)*24-N(E33)/60,2)) | G33: =MAX(0,F33-8) | H33: dzień wolny
A34: 28 | B34: poniedziałek | F34: =IF(OR(C34="",D34=""),0,ROUND(MOD(D34-C34,1)*24-N(E34)/60,2)) | G34: =MAX(0,F34-8)
A35: 29 | B35: wtorek | F35: =IF(OR(C35="",D35=""),0,ROUND(MOD(D35-C35,1)*24-N(E35)/60,2)) | G35: =MAX(0,F35-8)
A36: 30 | B36: środa | F36: =IF(OR(C36="",D36=""),0,ROUND(MOD(D36-C36,1)*24-N(E36)/60,2)) | G36: =MAX(0,F36-8)
A38: Przepracowane godziny | F38: =SUM(F7:F36)
A39: Wymiar czasu pracy (pełny etat) | F39: 176
A40: Godziny ponad wymiar | F40: =MAX(0,F38-F39)
A41: Godziny ponad 8 h na dobę | F41: =SUM(G7:G36)
A42: Dni urlopu | F42: =COUNTIF(H7:H36,"urlop")
...

Sheet Lipiec
A1: Karta ewidencji czasu pracy: lipiec 2027
A2: Pracownik:
A3: Stanowisko:
A4: Wymiar czasu pracy (pełny etat): 176 h, 22 dni
A6: Dzień | B6: Dzień tyg. | C6: Rozpoczęcie | D6: Zakończenie | E6: Przerwa (min) | F6: Godziny | G6: Ponad 8 h | H6: Rodzaj | I6: Uwagi
A7: 1 | B7: czwartek | F7: =IF(OR(C7="",D7=""),0,ROUND(MOD(D7-C7,1)*24-N(E7)/60,2)) | G7: =MAX(0,F7-8)
A8: 2 | B8: piątek | F8: =IF(OR(C8="",D8=""),0,ROUND(MOD(D8-C8,1)*24-N(E8)/60,2)) | G8: =MAX(0,F8-8)
A9: 3 | B9: sobota | F9: =IF(OR(C9="",D9=""),0,ROUND(MOD(D9-C9,1)*24-N(E9)/60,2)) | G9: =MAX(0,F9-8) | H9: dzień wolny
A10: 4 | B10: niedziela | F10: =IF(OR(C10="",D10=""),0,ROUND(MOD(D10-C10,1)*24-N(E10)/60,2)) | G10: =MAX(0,F10-8) | H10: dzień wolny
A11: 5 | B11: poniedziałek | F11: =IF(OR(C11="",D11=""),0,ROUND(MOD(D11-C11,1)*24-N(E11)/60,2)) | G11: =MAX(0,F11-8)
A12: 6 | B12: wtorek | F12: =IF(OR(C12="",D12=""),0,ROUND(MOD(D12-C12,1)*24-N(E12)/60,2)) | G12: =MAX(0,F12-8)
A13: 7 | B13: środa | F13: =IF(OR(C13="",D13=""),0,ROUND(MOD(D13-C13,1)*24-N(E13)/60,2)) | G13: =MAX(0,F13-8)
A14: 8 | B14: czwartek | F14: =IF(OR(C14="",D14=""),0,ROUND(MOD(D14-C14,1)*24-N(E14)/60,2)) | G14: =MAX(0,F14-8)
A15: 9 | B15: piątek | F15: =IF(OR(C15="",D15=""),0,ROUND(MOD(D15-C15,1)*24-N(E15)/60,2)) | G15: =MAX(0,F15-8)
A16: 10 | B16: sobota | F16: =IF(OR(C16="",D16=""),0,ROUND(MOD(D16-C16,1)*24-N(E16)/60,2)) | G16: =MAX(0,F16-8) | H16: dzień wolny
A17: 11 | B17: niedziela | F17: =IF(OR(C17="",D17=""),0,ROUND(MOD(D17-C17,1)*24-N(E17)/60,2)) | G17: =MAX(0,F17-8) | H17: dzień wolny
A18: 12 | B18: poniedziałek | F18: =IF(OR(C18="",D18=""),0,ROUND(MOD(D18-C18,1)*24-N(E18)/60,2)) | G18: =MAX(0,F18-8)
A19: 13 | B19: wtorek | F19: =IF(OR(C19="",D19=""),0,ROUND(MOD(D19-C19,1)*24-N(E19)/60,2)) | G19: =MAX(0,F19-8)
A20: 14 | B20: środa | F20: =IF(OR(C20="",D20=""),0,ROUND(MOD(D20-C20,1)*24-N(E20)/60,2)) | G20: =MAX(0,F20-8)
A21: 15 | B21: czwartek | F21: =IF(OR(C21="",D21=""),0,ROUND(MOD(D21-C21,1)*24-N(E21)/60,2)) | G21: =MAX(0,F21-8)
A22: 16 | B22: piątek | F22: =IF(OR(C22="",D22=""),0,ROUND(MOD(D22-C22,1)*24-N(E22)/60,2)) | G22: =MAX(0,F22-8)
A23: 17 | B23: sobota | F23: =IF(OR(C23="",D23=""),0,ROUND(MOD(D23-C23,1)*24-N(E23)/60,2)) | G23: =MAX(0,F23-8) | H23: dzień wolny
A24: 18 | B24: niedziela | F24: =IF(OR(C24="",D24=""),0,ROUND(MOD(D24-C24,1)*24-N(E24)/60,2)) | G24: =MAX(0,F24-8) | H24: dzień wolny
A25: 19 | B25: poniedziałek | F25: =IF(OR(C25="",D25=""),0,ROUND(MOD(D25-C25,1)*24-N(E25)/60,2)) | G25: =MAX(0,F25-8)
A26: 20 | B26: wtorek | F26: =IF(OR(C26="",D26=""),0,ROUND(MOD(D26-C26,1)*24-N(E26)/60,2)) | G26: =MAX(0,F26-8)
A27: 21 | B27: środa | F27: =IF(OR(C27="",D27=""),0,ROUND(MOD(D27-C27,1)*24-N(E27)/60,2)) | G27: =MAX(0,F27-8)
A28: 22 | B28: czwartek | F28: =IF(OR(C28="",D28=""),0,ROUND(MOD(D28-C28,1)*24-N(E28)/60,2)) | G28: =MAX(0,F28-8)
A29: 23 | B29: piątek | F29: =IF(OR(C29="",D29=""),0,ROUND(MOD(D29-C29,1)*24-N(E29)/60,2)) | G29: =MAX(0,F29-8)
A30: 24 | B30: sobota | F30: =IF(OR(C30="",D30=""),0,ROUND(MOD(D30-C30,1)*24-N(E30)/60,2)) | G30: =MAX(0,F30-8) | H30: dzień wolny
A31: 25 | B31: niedziela | F31: =IF(OR(C31="",D31=""),0,ROUND(MOD(D31-C31,1)*24-N(E31)/60,2)) | G31: =MAX(0,F31-8) | H31: dzień wolny
A32: 26 | B32: poniedziałek | F32: =IF(OR(C32="",D32=""),0,ROUND(MOD(D32-C32,1)*24-N(E32)/60,2)) | G32: =MAX(0,F32-8)
A33: 27 | B33: wtorek | F33: =IF(OR(C33="",D33=""),0,ROUND(MOD(D33-C33,1)*24-N(E33)/60,2)) | G33: =MAX(0,F33-8)
A34: 28 | B34: środa | F34: =IF(OR(C34="",D34=""),0,ROUND(MOD(D34-C34,1)*24-N(E34)/60,2)) | G34: =MAX(0,F34-8)
A35: 29 | B35: czwartek | F35: =IF(OR(C35="",D35=""),0,ROUND(MOD(D35-C35,1)*24-N(E35)/60,2)) | G35: =MAX(0,F35-8)
A36: 30 | B36: piątek | F36: =IF(OR(C36="",D36=""),0,ROUND(MOD(D36-C36,1)*24-N(E36)/60,2)) | G36: =MAX(0,F36-8)
A37: 31 | B37: sobota | F37: =IF(OR(C37="",D37=""),0,ROUND(MOD(D37-C37,1)*24-N(E37)/60,2)) | G37: =MAX(0,F37-8) | H37: dzień wolny
A39: Przepracowane godziny | F39: =SUM(F7:F37)
A40: Wymiar czasu pracy (pełny etat) | F40: 176
A41: Godziny ponad wymiar | F41: =MAX(0,F39-F40)
A42: Godziny ponad 8 h na dobę | F42: =SUM(G7:G37)
...

Sheet Sierpień
A1: Karta ewidencji czasu pracy: sierpień 2027
A2: Pracownik:
A3: Stanowisko:
A4: Wymiar czasu pracy (pełny etat): 176 h, 22 dni
A6: Dzień | B6: Dzień tyg. | C6: Rozpoczęcie | D6: Zakończenie | E6: Przerwa (min) | F6: Godziny | G6: Ponad 8 h | H6: Rodzaj | I6: Uwagi
A7: 1 | B7: niedziela | F7: =IF(OR(C7="",D7=""),0,ROUND(MOD(D7-C7,1)*24-N(E7)/60,2)) | G7: =MAX(0,F7-8) | H7: dzień wolny
A8: 2 | B8: poniedziałek | F8: =IF(OR(C8="",D8=""),0,ROUND(MOD(D8-C8,1)*24-N(E8)/60,2)) | G8: =MAX(0,F8-8)
A9: 3 | B9: wtorek | F9: =IF(OR(C9="",D9=""),0,ROUND(MOD(D9-C9,1)*24-N(E9)/60,2)) | G9: =MAX(0,F9-8)
A10: 4 | B10: środa | F10: =IF(OR(C10="",D10=""),0,ROUND(MOD(D10-C10,1)*24-N(E10)/60,2)) | G10: =MAX(0,F10-8)
A11: 5 | B11: czwartek | F11: =IF(OR(C11="",D11=""),0,ROUND(MOD(D11-C11,1)*24-N(E11)/60,2)) | G11: =MAX(0,F11-8)
A12: 6 | B12: piątek | F12: =IF(OR(C12="",D12=""),0,ROUND(MOD(D12-C12,1)*24-N(E12)/60,2)) | G12: =MAX(0,F12-8)
A13: 7 | B13: sobota | F13: =IF(OR(C13="",D13=""),0,ROUND(MOD(D13-C13,1)*24-N(E13)/60,2)) | G13: =MAX(0,F13-8) | H13: dzień wolny
A14: 8 | B14: niedziela | F14: =IF(OR(C14="",D14=""),0,ROUND(MOD(D14-C14,1)*24-N(E14)/60,2)) | G14: =MAX(0,F14-8) | H14: dzień wolny
A15: 9 | B15: poniedziałek | F15: =IF(OR(C15="",D15=""),0,ROUND(MOD(D15-C15,1)*24-N(E15)/60,2)) | G15: =MAX(0,F15-8)
A16: 10 | B16: wtorek | F16: =IF(OR(C16="",D16=""),0,ROUND(MOD(D16-C16,1)*24-N(E16)/60,2)) | G16: =MAX(0,F16-8)
A17: 11 | B17: środa | F17: =IF(OR(C17="",D17=""),0,ROUND(MOD(D17-C17,1)*24-N(E17)/60,2)) | G17: =MAX(0,F17-8)
A18: 12 | B18: czwartek | F18: =IF(OR(C18="",D18=""),0,ROUND(MOD(D18-C18,1)*24-N(E18)/60,2)) | G18: =MAX(0,F18-8)
A19: 13 | B19: piątek | F19: =IF(OR(C19="",D19=""),0,ROUND(MOD(D19-C19,1)*24-N(E19)/60,2)) | G19: =MAX(0,F19-8)
A20: 14 | B20: sobota | F20: =IF(OR(C20="",D20=""),0,ROUND(MOD(D20-C20,1)*24-N(E20)/60,2)) | G20: =MAX(0,F20-8) | H20: dzień wolny
A21: 15 | B21: niedziela | F21: =IF(OR(C21="",D21=""),0,ROUND(MOD(D21-C21,1)*24-N(E21)/60,2)) | G21: =MAX(0,F21-8) | H21: Wniebowzięcie NMP
A22: 16 | B22: poniedziałek | F22: =IF(OR(C22="",D22=""),0,ROUND(MOD(D22-C22,1)*24-N(E22)/60,2)) | G22: =MAX(0,F22-8)
A23: 17 | B23: wtorek | F23: =IF(OR(C23="",D23=""),0,ROUND(MOD(D23-C23,1)*24-N(E23)/60,2)) | G23: =MAX(0,F23-8)
A24: 18 | B24: środa | F24: =IF(OR(C24="",D24=""),0,ROUND(MOD(D24-C24,1)*24-N(E24)/60,2)) | G24: =MAX(0,F24-8)
A25: 19 | B25: czwartek | F25: =IF(OR(C25="",D25=""),0,ROUND(MOD(D25-C25,1)*24-N(E25)/60,2)) | G25: =MAX(0,F25-8)
A26: 20 | B26: piątek | F26: =IF(OR(C26="",D26=""),0,ROUND(MOD(D26-C26,1)*24-N(E26)/60,2)) | G26: =MAX(0,F26-8)
A27: 21 | B27: sobota | F27: =IF(OR(C27="",D27=""),0,ROUND(MOD(D27-C27,1)*24-N(E27)/60,2)) | G27: =MAX(0,F27-8) | H27: dzień wolny
A28: 22 | B28: niedziela | F28: =IF(OR(C28="",D28=""),0,ROUND(MOD(D28-C28,1)*24-N(E28)/60,2)) | G28: =MAX(0,F28-8) | H28: dzień wolny
A29: 23 | B29: poniedziałek | F29: =IF(OR(C29="",D29=""),0,ROUND(MOD(D29-C29,1)*24-N(E29)/60,2)) | G29: =MAX(0,F29-8)
A30: 24 | B30: wtorek | F30: =IF(OR(C30="",D30=""),0,ROUND(MOD(D30-C30,1)*24-N(E30)/60,2)) | G30: =MAX(0,F30-8)
A31: 25 | B31: środa | F31: =IF(OR(C31="",D31=""),0,ROUND(MOD(D31-C31,1)*24-N(E31)/60,2)) | G31: =MAX(0,F31-8)
A32: 26 | B32: czwartek | F32: =IF(OR(C32="",D32=""),0,ROUND(MOD(D32-C32,1)*24-N(E32)/60,2)) | G32: =MAX(0,F32-8)
A33: 27 | B33: piątek | F33: =IF(OR(C33="",D33=""),0,ROUND(MOD(D33-C33,1)*24-N(E33)/60,2)) | G33: =MAX(0,F33-8)
A34: 28 | B34: sobota | F34: =IF(OR(C34="",D34=""),0,ROUND(MOD(D34-C34,1)*24-N(E34)/60,2)) | G34: =MAX(0,F34-8) | H34: dzień wolny
A35: 29 | B35: niedziela | F35: =IF(OR(C35="",D35=""),0,ROUND(MOD(D35-C35,1)*24-N(E35)/60,2)) | G35: =MAX(0,F35-8) | H35: dzień wolny
A36: 30 | B36: poniedziałek | F36: =IF(OR(C36="",D36=""),0,ROUND(MOD(D36-C36,1)*24-N(E36)/60,2)) | G36: =MAX(0,F36-8)
A37: 31 | B37: wtorek | F37: =IF(OR(C37="",D37=""),0,ROUND(MOD(D37-C37,1)*24-N(E37)/60,2)) | G37: =MAX(0,F37-8)
A39: Przepracowane godziny | F39: =SUM(F7:F37)
A40: Wymiar czasu pracy (pełny etat) | F40: 176
A41: Godziny ponad wymiar | F41: =MAX(0,F39-F40)
A42: Godziny ponad 8 h na dobę | F42: =SUM(G7:G37)
...

Sheet Wrzesień
A1: Karta ewidencji czasu pracy: wrzesień 2027
A2: Pracownik:
A3: Stanowisko:
A4: Wymiar czasu pracy (pełny etat): 176 h, 22 dni
A6: Dzień | B6: Dzień tyg. | C6: Rozpoczęcie | D6: Zakończenie | E6: Przerwa (min) | F6: Godziny | G6: Ponad 8 h | H6: Rodzaj | I6: Uwagi
A7: 1 | B7: środa | F7: =IF(OR(C7="",D7=""),0,ROUND(MOD(D7-C7,1)*24-N(E7)/60,2)) | G7: =MAX(0,F7-8)
A8: 2 | B8: czwartek | F8: =IF(OR(C8="",D8=""),0,ROUND(MOD(D8-C8,1)*24-N(E8)/60,2)) | G8: =MAX(0,F8-8)
A9: 3 | B9: piątek | F9: =IF(OR(C9="",D9=""),0,ROUND(MOD(D9-C9,1)*24-N(E9)/60,2)) | G9: =MAX(0,F9-8)
A10: 4 | B10: sobota | F10: =IF(OR(C10="",D10=""),0,ROUND(MOD(D10-C10,1)*24-N(E10)/60,2)) | G10: =MAX(0,F10-8) | H10: dzień wolny
A11: 5 | B11: niedziela | F11: =IF(OR(C11="",D11=""),0,ROUND(MOD(D11-C11,1)*24-N(E11)/60,2)) | G11: =MAX(0,F11-8) | H11: dzień wolny
A12: 6 | B12: poniedziałek | F12: =IF(OR(C12="",D12=""),0,ROUND(MOD(D12-C12,1)*24-N(E12)/60,2)) | G12: =MAX(0,F12-8)
A13: 7 | B13: wtorek | F13: =IF(OR(C13="",D13=""),0,ROUND(MOD(D13-C13,1)*24-N(E13)/60,2)) | G13: =MAX(0,F13-8)
A14: 8 | B14: środa | F14: =IF(OR(C14="",D14=""),0,ROUND(MOD(D14-C14,1)*24-N(E14)/60,2)) | G14: =MAX(0,F14-8)
A15: 9 | B15: czwartek | F15: =IF(OR(C15="",D15=""),0,ROUND(MOD(D15-C15,1)*24-N(E15)/60,2)) | G15: =MAX(0,F15-8)
A16: 10 | B16: piątek | F16: =IF(OR(C16="",D16=""),0,ROUND(MOD(D16-C16,1)*24-N(E16)/60,2)) | G16: =MAX(0,F16-8)
A17: 11 | B17: sobota | F17: =IF(OR(C17="",D17=""),0,ROUND(MOD(D17-C17,1)*24-N(E17)/60,2)) | G17: =MAX(0,F17-8) | H17: dzień wolny
A18: 12 | B18: niedziela | F18: =IF(OR(C18="",D18=""),0,ROUND(MOD(D18-C18,1)*24-N(E18)/60,2)) | G18: =MAX(0,F18-8) | H18: dzień wolny
A19: 13 | B19: poniedziałek | F19: =IF(OR(C19="",D19=""),0,ROUND(MOD(D19-C19,1)*24-N(E19)/60,2)) | G19: =MAX(0,F19-8)
A20: 14 | B20: wtorek | F20: =IF(OR(C20="",D20=""),0,ROUND(MOD(D20-C20,1)*24-N(E20)/60,2)) | G20: =MAX(0,F20-8)
A21: 15 | B21: środa | F21: =IF(OR(C21="",D21=""),0,ROUND(MOD(D21-C21,1)*24-N(E21)/60,2)) | G21: =MAX(0,F21-8)
A22: 16 | B22: czwartek | F22: =IF(OR(C22="",D22=""),0,ROUND(MOD(D22-C22,1)*24-N(E22)/60,2)) | G22: =MAX(0,F22-8)
A23: 17 | B23: piątek | F23: =IF(OR(C23="",D23=""),0,ROUND(MOD(D23-C23,1)*24-N(E23)/60,2)) | G23: =MAX(0,F23-8)
A24: 18 | B24: sobota | F24: =IF(OR(C24="",D24=""),0,ROUND(MOD(D24-C24,1)*24-N(E24)/60,2)) | G24: =MAX(0,F24-8) | H24: dzień wolny
A25: 19 | B25: niedziela | F25: =IF(OR(C25="",D25=""),0,ROUND(MOD(D25-C25,1)*24-N(E25)/60,2)) | G25: =MAX(0,F25-8) | H25: dzień wolny
A26: 20 | B26: poniedziałek | F26: =IF(OR(C26="",D26=""),0,ROUND(MOD(D26-C26,1)*24-N(E26)/60,2)) | G26: =MAX(0,F26-8)
A27: 21 | B27: wtorek | F27: =IF(OR(C27="",D27=""),0,ROUND(MOD(D27-C27,1)*24-N(E27)/60,2)) | G27: =MAX(0,F27-8)
A28: 22 | B28: środa | F28: =IF(OR(C28="",D28=""),0,ROUND(MOD(D28-C28,1)*24-N(E28)/60,2)) | G28: =MAX(0,F28-8)
A29: 23 | B29: czwartek | F29: =IF(OR(C29="",D29=""),0,ROUND(MOD(D29-C29,1)*24-N(E29)/60,2)) | G29: =MAX(0,F29-8)
A30: 24 | B30: piątek | F30: =IF(OR(C30="",D30=""),0,ROUND(MOD(D30-C30,1)*24-N(E30)/60,2)) | G30: =MAX(0,F30-8)
A31: 25 | B31: sobota | F31: =IF(OR(C31="",D31=""),0,ROUND(MOD(D31-C31,1)*24-N(E31)/60,2)) | G31: =MAX(0,F31-8) | H31: dzień wolny
A32: 26 | B32: niedziela | F32: =IF(OR(C32="",D32=""),0,ROUND(MOD(D32-C32,1)*24-N(E32)/60,2)) | G32: =MAX(0,F32-8) | H32: dzień wolny
A33: 27 | B33: poniedziałek | F33: =IF(OR(C33="",D33=""),0,ROUND(MOD(D33-C33,1)*24-N(E33)/60,2)) | G33: =MAX(0,F33-8)
A34: 28 | B34: wtorek | F34: =IF(OR(C34="",D34=""),0,ROUND(MOD(D34-C34,1)*24-N(E34)/60,2)) | G34: =MAX(0,F34-8)
A35: 29 | B35: środa | F35: =IF(OR(C35="",D35=""),0,ROUND(MOD(D35-C35,1)*24-N(E35)/60,2)) | G35: =MAX(0,F35-8)
A36: 30 | B36: czwartek | F36: =IF(OR(C36="",D36=""),0,ROUND(MOD(D36-C36,1)*24-N(E36)/60,2)) | G36: =MAX(0,F36-8)
A38: Przepracowane godziny | F38: =SUM(F7:F36)
A39: Wymiar czasu pracy (pełny etat) | F39: 176
A40: Godziny ponad wymiar | F40: =MAX(0,F38-F39)
A41: Godziny ponad 8 h na dobę | F41: =SUM(G7:G36)
A42: Dni urlopu | F42: =COUNTIF(H7:H36,"urlop")
...

Sheet Październik
A1: Karta ewidencji czasu pracy: październik 2027
A2: Pracownik:
A3: Stanowisko:
A4: Wymiar czasu pracy (pełny etat): 168 h, 21 dni
A6: Dzień | B6: Dzień tyg. | C6: Rozpoczęcie | D6: Zakończenie | E6: Przerwa (min) | F6: Godziny | G6: Ponad 8 h | H6: Rodzaj | I6: Uwagi
A7: 1 | B7: piątek | F7: =IF(OR(C7="",D7=""),0,ROUND(MOD(D7-C7,1)*24-N(E7)/60,2)) | G7: =MAX(0,F7-8)
A8: 2 | B8: sobota | F8: =IF(OR(C8="",D8=""),0,ROUND(MOD(D8-C8,1)*24-N(E8)/60,2)) | G8: =MAX(0,F8-8) | H8: dzień wolny
A9: 3 | B9: niedziela | F9: =IF(OR(C9="",D9=""),0,ROUND(MOD(D9-C9,1)*24-N(E9)/60,2)) | G9: =MAX(0,F9-8) | H9: dzień wolny
A10: 4 | B10: poniedziałek | F10: =IF(OR(C10="",D10=""),0,ROUND(MOD(D10-C10,1)*24-N(E10)/60,2)) | G10: =MAX(0,F10-8)
A11: 5 | B11: wtorek | F11: =IF(OR(C11="",D11=""),0,ROUND(MOD(D11-C11,1)*24-N(E11)/60,2)) | G11: =MAX(0,F11-8)
A12: 6 | B12: środa | F12: =IF(OR(C12="",D12=""),0,ROUND(MOD(D12-C12,1)*24-N(E12)/60,2)) | G12: =MAX(0,F12-8)
A13: 7 | B13: czwartek | F13: =IF(OR(C13="",D13=""),0,ROUND(MOD(D13-C13,1)*24-N(E13)/60,2)) | G13: =MAX(0,F13-8)
A14: 8 | B14: piątek | F14: =IF(OR(C14="",D14=""),0,ROUND(MOD(D14-C14,1)*24-N(E14)/60,2)) | G14: =MAX(0,F14-8)
A15: 9 | B15: sobota | F15: =IF(OR(C15="",D15=""),0,ROUND(MOD(D15-C15,1)*24-N(E15)/60,2)) | G15: =MAX(0,F15-8) | H15: dzień wolny
A16: 10 | B16: niedziela | F16: =IF(OR(C16="",D16=""),0,ROUND(MOD(D16-C16,1)*24-N(E16)/60,2)) | G16: =MAX(0,F16-8) | H16: dzień wolny
A17: 11 | B17: poniedziałek | F17: =IF(OR(C17="",D17=""),0,ROUND(MOD(D17-C17,1)*24-N(E17)/60,2)) | G17: =MAX(0,F17-8)
A18: 12 | B18: wtorek | F18: =IF(OR(C18="",D18=""),0,ROUND(MOD(D18-C18,1)*24-N(E18)/60,2)) | G18: =MAX(0,F18-8)
A19: 13 | B19: środa | F19: =IF(OR(C19="",D19=""),0,ROUND(MOD(D19-C19,1)*24-N(E19)/60,2)) | G19: =MAX(0,F19-8)
A20: 14 | B20: czwartek | F20: =IF(OR(C20="",D20=""),0,ROUND(MOD(D20-C20,1)*24-N(E20)/60,2)) | G20: =MAX(0,F20-8)
A21: 15 | B21: piątek | F21: =IF(OR(C21="",D21=""),0,ROUND(MOD(D21-C21,1)*24-N(E21)/60,2)) | G21: =MAX(0,F21-8)
A22: 16 | B22: sobota | F22: =IF(OR(C22="",D22=""),0,ROUND(MOD(D22-C22,1)*24-N(E22)/60,2)) | G22: =MAX(0,F22-8) | H22: dzień wolny
A23: 17 | B23: niedziela | F23: =IF(OR(C23="",D23=""),0,ROUND(MOD(D23-C23,1)*24-N(E23)/60,2)) | G23: =MAX(0,F23-8) | H23: dzień wolny
A24: 18 | B24: poniedziałek | F24: =IF(OR(C24="",D24=""),0,ROUND(MOD(D24-C24,1)*24-N(E24)/60,2)) | G24: =MAX(0,F24-8)
A25: 19 | B25: wtorek | F25: =IF(OR(C25="",D25=""),0,ROUND(MOD(D25-C25,1)*24-N(E25)/60,2)) | G25: =MAX(0,F25-8)
A26: 20 | B26: środa | F26: =IF(OR(C26="",D26=""),0,ROUND(MOD(D26-C26,1)*24-N(E26)/60,2)) | G26: =MAX(0,F26-8)
A27: 21 | B27: czwartek | F27: =IF(OR(C27="",D27=""),0,ROUND(MOD(D27-C27,1)*24-N(E27)/60,2)) | G27: =MAX(0,F27-8)
A28: 22 | B28: piątek | F28: =IF(OR(C28="",D28=""),0,ROUND(MOD(D28-C28,1)*24-N(E28)/60,2)) | G28: =MAX(0,F28-8)
A29: 23 | B29: sobota | F29: =IF(OR(C29="",D29=""),0,ROUND(MOD(D29-C29,1)*24-N(E29)/60,2)) | G29: =MAX(0,F29-8) | H29: dzień wolny
A30: 24 | B30: niedziela | F30: =IF(OR(C30="",D30=""),0,ROUND(MOD(D30-C30,1)*24-N(E30)/60,2)) | G30: =MAX(0,F30-8) | H30: dzień wolny
A31: 25 | B31: poniedziałek | F31: =IF(OR(C31="",D31=""),0,ROUND(MOD(D31-C31,1)*24-N(E31)/60,2)) | G31: =MAX(0,F31-8)
A32: 26 | B32: wtorek | F32: =IF(OR(C32="",D32=""),0,ROUND(MOD(D32-C32,1)*24-N(E32)/60,2)) | G32: =MAX(0,F32-8)
A33: 27 | B33: środa | F33: =IF(OR(C33="",D33=""),0,ROUND(MOD(D33-C33,1)*24-N(E33)/60,2)) | G33: =MAX(0,F33-8)
A34: 28 | B34: czwartek | F34: =IF(OR(C34="",D34=""),0,ROUND(MOD(D34-C34,1)*24-N(E34)/60,2)) | G34: =MAX(0,F34-8)
A35: 29 | B35: piątek | F35: =IF(OR(C35="",D35=""),0,ROUND(MOD(D35-C35,1)*24-N(E35)/60,2)) | G35: =MAX(0,F35-8)
A36: 30 | B36: sobota | F36: =IF(OR(C36="",D36=""),0,ROUND(MOD(D36-C36,1)*24-N(E36)/60,2)) | G36: =MAX(0,F36-8) | H36: dzień wolny
A37: 31 | B37: niedziela | F37: =IF(OR(C37="",D37=""),0,ROUND(MOD(D37-C37,1)*24-N(E37)/60,2)) | G37: =MAX(0,F37-8) | H37: dzień wolny
A39: Przepracowane godziny | F39: =SUM(F7:F37)
A40: Wymiar czasu pracy (pełny etat) | F40: 168
A41: Godziny ponad wymiar | F41: =MAX(0,F39-F40)
A42: Godziny ponad 8 h na dobę | F42: =SUM(G7:G37)
...

Sheet Listopad
A1: Karta ewidencji czasu pracy: listopad 2027
A2: Pracownik:
A3: Stanowisko:
A4: Wymiar czasu pracy (pełny etat): 160 h, 20 dni
A6: Dzień | B6: Dzień tyg. | C6: Rozpoczęcie | D6: Zakończenie | E6: Przerwa (min) | F6: Godziny | G6: Ponad 8 h | H6: Rodzaj | I6: Uwagi
A7: 1 | B7: poniedziałek | F7: =IF(OR(C7="",D7=""),0,ROUND(MOD(D7-C7,1)*24-N(E7)/60,2)) | G7: =MAX(0,F7-8) | H7: Wszystkich Świętych
A8: 2 | B8: wtorek | F8: =IF(OR(C8="",D8=""),0,ROUND(MOD(D8-C8,1)*24-N(E8)/60,2)) | G8: =MAX(0,F8-8)
A9: 3 | B9: środa | F9: =IF(OR(C9="",D9=""),0,ROUND(MOD(D9-C9,1)*24-N(E9)/60,2)) | G9: =MAX(0,F9-8)
A10: 4 | B10: czwartek | F10: =IF(OR(C10="",D10=""),0,ROUND(MOD(D10-C10,1)*24-N(E10)/60,2)) | G10: =MAX(0,F10-8)
A11: 5 | B11: piątek | F11: =IF(OR(C11="",D11=""),0,ROUND(MOD(D11-C11,1)*24-N(E11)/60,2)) | G11: =MAX(0,F11-8)
A12: 6 | B12: sobota | F12: =IF(OR(C12="",D12=""),0,ROUND(MOD(D12-C12,1)*24-N(E12)/60,2)) | G12: =MAX(0,F12-8) | H12: dzień wolny
A13: 7 | B13: niedziela | F13: =IF(OR(C13="",D13=""),0,ROUND(MOD(D13-C13,1)*24-N(E13)/60,2)) | G13: =MAX(0,F13-8) | H13: dzień wolny
A14: 8 | B14: poniedziałek | F14: =IF(OR(C14="",D14=""),0,ROUND(MOD(D14-C14,1)*24-N(E14)/60,2)) | G14: =MAX(0,F14-8)
A15: 9 | B15: wtorek | F15: =IF(OR(C15="",D15=""),0,ROUND(MOD(D15-C15,1)*24-N(E15)/60,2)) | G15: =MAX(0,F15-8)
A16: 10 | B16: środa | F16: =IF(OR(C16="",D16=""),0,ROUND(MOD(D16-C16,1)*24-N(E16)/60,2)) | G16: =MAX(0,F16-8)
A17: 11 | B17: czwartek | F17: =IF(OR(C17="",D17=""),0,ROUND(MOD(D17-C17,1)*24-N(E17)/60,2)) | G17: =MAX(0,F17-8) | H17: Narodowe Święto Niepodległości
A18: 12 | B18: piątek | F18: =IF(OR(C18="",D18=""),0,ROUND(MOD(D18-C18,1)*24-N(E18)/60,2)) | G18: =MAX(0,F18-8)
A19: 13 | B19: sobota | F19: =IF(OR(C19="",D19=""),0,ROUND(MOD(D19-C19,1)*24-N(E19)/60,2)) | G19: =MAX(0,F19-8) | H19: dzień wolny
A20: 14 | B20: niedziela | F20: =IF(OR(C20="",D20=""),0,ROUND(MOD(D20-C20,1)*24-N(E20)/60,2)) | G20: =MAX(0,F20-8) | H20: dzień wolny
A21: 15 | B21: poniedziałek | F21: =IF(OR(C21="",D21=""),0,ROUND(MOD(D21-C21,1)*24-N(E21)/60,2)) | G21: =MAX(0,F21-8)
A22: 16 | B22: wtorek | F22: =IF(OR(C22="",D22=""),0,ROUND(MOD(D22-C22,1)*24-N(E22)/60,2)) | G22: =MAX(0,F22-8)
A23: 17 | B23: środa | F23: =IF(OR(C23="",D23=""),0,ROUND(MOD(D23-C23,1)*24-N(E23)/60,2)) | G23: =MAX(0,F23-8)
A24: 18 | B24: czwartek | F24: =IF(OR(C24="",D24=""),0,ROUND(MOD(D24-C24,1)*24-N(E24)/60,2)) | G24: =MAX(0,F24-8)
A25: 19 | B25: piątek | F25: =IF(OR(C25="",D25=""),0,ROUND(MOD(D25-C25,1)*24-N(E25)/60,2)) | G25: =MAX(0,F25-8)
A26: 20 | B26: sobota | F26: =IF(OR(C26="",D26=""),0,ROUND(MOD(D26-C26,1)*24-N(E26)/60,2)) | G26: =MAX(0,F26-8) | H26: dzień wolny
A27: 21 | B27: niedziela | F27: =IF(OR(C27="",D27=""),0,ROUND(MOD(D27-C27,1)*24-N(E27)/60,2)) | G27: =MAX(0,F27-8) | H27: dzień wolny
A28: 22 | B28: poniedziałek | F28: =IF(OR(C28="",D28=""),0,ROUND(MOD(D28-C28,1)*24-N(E28)/60,2)) | G28: =MAX(0,F28-8)
A29: 23 | B29: wtorek | F29: =IF(OR(C29="",D29=""),0,ROUND(MOD(D29-C29,1)*24-N(E29)/60,2)) | G29: =MAX(0,F29-8)
A30: 24 | B30: środa | F30: =IF(OR(C30="",D30=""),0,ROUND(MOD(D30-C30,1)*24-N(E30)/60,2)) | G30: =MAX(0,F30-8)
A31: 25 | B31: czwartek | F31: =IF(OR(C31="",D31=""),0,ROUND(MOD(D31-C31,1)*24-N(E31)/60,2)) | G31: =MAX(0,F31-8)
A32: 26 | B32: piątek | F32: =IF(OR(C32="",D32=""),0,ROUND(MOD(D32-C32,1)*24-N(E32)/60,2)) | G32: =MAX(0,F32-8)
A33: 27 | B33: sobota | F33: =IF(OR(C33="",D33=""),0,ROUND(MOD(D33-C33,1)*24-N(E33)/60,2)) | G33: =MAX(0,F33-8) | H33: dzień wolny
A34: 28 | B34: niedziela | F34: =IF(OR(C34="",D34=""),0,ROUND(MOD(D34-C34,1)*24-N(E34)/60,2)) | G34: =MAX(0,F34-8) | H34: dzień wolny
A35: 29 | B35: poniedziałek | F35: =IF(OR(C35="",D35=""),0,ROUND(MOD(D35-C35,1)*24-N(E35)/60,2)) | G35: =MAX(0,F35-8)
A36: 30 | B36: wtorek | F36: =IF(OR(C36="",D36=""),0,ROUND(MOD(D36-C36,1)*24-N(E36)/60,2)) | G36: =MAX(0,F36-8)
A38: Przepracowane godziny | F38: =SUM(F7:F36)
A39: Wymiar czasu pracy (pełny etat) | F39: 160
A40: Godziny ponad wymiar | F40: =MAX(0,F38-F39)
A41: Godziny ponad 8 h na dobę | F41: =SUM(G7:G36)
A42: Dni urlopu | F42: =COUNTIF(H7:H36,"urlop")
...

Sheet Grudzień
A1: Karta ewidencji czasu pracy: grudzień 2027
A2: Pracownik:
A3: Stanowisko:
A4: Wymiar czasu pracy (pełny etat): 168 h, 21 dni
A6: Dzień | B6: Dzień tyg. | C6: Rozpoczęcie | D6: Zakończenie | E6: Przerwa (min) | F6: Godziny | G6: Ponad 8 h | H6: Rodzaj | I6: Uwagi
A7: 1 | B7: środa | F7: =IF(OR(C7="",D7=""),0,ROUND(MOD(D7-C7,1)*24-N(E7)/60,2)) | G7: =MAX(0,F7-8)
A8: 2 | B8: czwartek | F8: =IF(OR(C8="",D8=""),0,ROUND(MOD(D8-C8,1)*24-N(E8)/60,2)) | G8: =MAX(0,F8-8)
A9: 3 | B9: piątek | F9: =IF(OR(C9="",D9=""),0,ROUND(MOD(D9-C9,1)*24-N(E9)/60,2)) | G9: =MAX(0,F9-8)
A10: 4 | B10: sobota | F10: =IF(OR(C10="",D10=""),0,ROUND(MOD(D10-C10,1)*24-N(E10)/60,2)) | G10: =MAX(0,F10-8) | H10: dzień wolny
A11: 5 | B11: niedziela | F11: =IF(OR(C11="",D11=""),0,ROUND(MOD(D11-C11,1)*24-N(E11)/60,2)) | G11: =MAX(0,F11-8) | H11: dzień wolny
A12: 6 | B12: poniedziałek | F12: =IF(OR(C12="",D12=""),0,ROUND(MOD(D12-C12,1)*24-N(E12)/60,2)) | G12: =MAX(0,F12-8)
A13: 7 | B13: wtorek | F13: =IF(OR(C13="",D13=""),0,ROUND(MOD(D13-C13,1)*24-N(E13)/60,2)) | G13: =MAX(0,F13-8)
A14: 8 | B14: środa | F14: =IF(OR(C14="",D14=""),0,ROUND(MOD(D14-C14,1)*24-N(E14)/60,2)) | G14: =MAX(0,F14-8)
A15: 9 | B15: czwartek | F15: =IF(OR(C15="",D15=""),0,ROUND(MOD(D15-C15,1)*24-N(E15)/60,2)) | G15: =MAX(0,F15-8)
A16: 10 | B16: piątek | F16: =IF(OR(C16="",D16=""),0,ROUND(MOD(D16-C16,1)*24-N(E16)/60,2)) | G16: =MAX(0,F16-8)
A17: 11 | B17: sobota | F17: =IF(OR(C17="",D17=""),0,ROUND(MOD(D17-C17,1)*24-N(E17)/60,2)) | G17: =MAX(0,F17-8) | H17: dzień wolny
A18: 12 | B18: niedziela | F18: =IF(OR(C18="",D18=""),0,ROUND(MOD(D18-C18,1)*24-N(E18)/60,2)) | G18: =MAX(0,F18-8) | H18: dzień wolny
A19: 13 | B19: poniedziałek | F19: =IF(OR(C19="",D19=""),0,ROUND(MOD(D19-C19,1)*24-N(E19)/60,2)) | G19: =MAX(0,F19-8)
A20: 14 | B20: wtorek | F20: =IF(OR(C20="",D20=""),0,ROUND(MOD(D20-C20,1)*24-N(E20)/60,2)) | G20: =MAX(0,F20-8)
A21: 15 | B21: środa | F21: =IF(OR(C21="",D21=""),0,ROUND(MOD(D21-C21,1)*24-N(E21)/60,2)) | G21: =MAX(0,F21-8)
A22: 16 | B22: czwartek | F22: =IF(OR(C22="",D22=""),0,ROUND(MOD(D22-C22,1)*24-N(E22)/60,2)) | G22: =MAX(0,F22-8)
A23: 17 | B23: piątek | F23: =IF(OR(C23="",D23=""),0,ROUND(MOD(D23-C23,1)*24-N(E23)/60,2)) | G23: =MAX(0,F23-8)
A24: 18 | B24: sobota | F24: =IF(OR(C24="",D24=""),0,ROUND(MOD(D24-C24,1)*24-N(E24)/60,2)) | G24: =MAX(0,F24-8) | H24: dzień wolny
A25: 19 | B25: niedziela | F25: =IF(OR(C25="",D25=""),0,ROUND(MOD(D25-C25,1)*24-N(E25)/60,2)) | G25: =MAX(0,F25-8) | H25: dzień wolny
A26: 20 | B26: poniedziałek | F26: =IF(OR(C26="",D26=""),0,ROUND(MOD(D26-C26,1)*24-N(E26)/60,2)) | G26: =MAX(0,F26-8)
A27: 21 | B27: wtorek | F27: =IF(OR(C27="",D27=""),0,ROUND(MOD(D27-C27,1)*24-N(E27)/60,2)) | G27: =MAX(0,F27-8)
A28: 22 | B28: środa | F28: =IF(OR(C28="",D28=""),0,ROUND(MOD(D28-C28,1)*24-N(E28)/60,2)) | G28: =MAX(0,F28-8)
A29: 23 | B29: czwartek | F29: =IF(OR(C29="",D29=""),0,ROUND(MOD(D29-C29,1)*24-N(E29)/60,2)) | G29: =MAX(0,F29-8)
A30: 24 | B30: piątek | F30: =IF(OR(C30="",D30=""),0,ROUND(MOD(D30-C30,1)*24-N(E30)/60,2)) | G30: =MAX(0,F30-8) | H30: Wigilia Bożego Narodzenia
A31: 25 | B31: sobota | F31: =IF(OR(C31="",D31=""),0,ROUND(MOD(D31-C31,1)*24-N(E31)/60,2)) | G31: =MAX(0,F31-8) | H31: Boże Narodzenie (pierwszy dzień)
A32: 26 | B32: niedziela | F32: =IF(OR(C32="",D32=""),0,ROUND(MOD(D32-C32,1)*24-N(E32)/60,2)) | G32: =MAX(0,F32-8) | H32: Boże Narodzenie (drugi dzień)
A33: 27 | B33: poniedziałek | F33: =IF(OR(C33="",D33=""),0,ROUND(MOD(D33-C33,1)*24-N(E33)/60,2)) | G33: =MAX(0,F33-8)
A34: 28 | B34: wtorek | F34: =IF(OR(C34="",D34=""),0,ROUND(MOD(D34-C34,1)*24-N(E34)/60,2)) | G34: =MAX(0,F34-8)
A35: 29 | B35: środa | F35: =IF(OR(C35="",D35=""),0,ROUND(MOD(D35-C35,1)*24-N(E35)/60,2)) | G35: =MAX(0,F35-8)
A36: 30 | B36: czwartek | F36: =IF(OR(C36="",D36=""),0,ROUND(MOD(D36-C36,1)*24-N(E36)/60,2)) | G36: =MAX(0,F36-8)
A37: 31 | B37: piątek | F37: =IF(OR(C37="",D37=""),0,ROUND(MOD(D37-C37,1)*24-N(E37)/60,2)) | G37: =MAX(0,F37-8)
A39: Przepracowane godziny | F39: =SUM(F7:F37)
A40: Wymiar czasu pracy (pełny etat) | F40: 168
A41: Godziny ponad wymiar | F41: =MAX(0,F39-F40)
A42: Godziny ponad 8 h na dobę | F42: =SUM(G7:G37)
...
